BEGIN:VCALENDAR
VERSION:2.0
PRODID:-//Ystad Sweden Jazz Festival - ECPv6.15.20//NONSGML v1.0//EN
CALSCALE:GREGORIAN
METHOD:PUBLISH
X-WR-CALNAME:Ystad Sweden Jazz Festival
X-ORIGINAL-URL:https://ystadjazz.se
X-WR-CALDESC:Händelser för Ystad Sweden Jazz Festival
REFRESH-INTERVAL;VALUE=DURATION:PT1H
X-Robots-Tag:noindex
X-PUBLISHED-TTL:PT1H
BEGIN:VTIMEZONE
TZID:Europe/Stockholm
BEGIN:DAYLIGHT
TZOFFSETFROM:+0100
TZOFFSETTO:+0200
TZNAME:CEST
DTSTART:20250330T010000
END:DAYLIGHT
BEGIN:STANDARD
TZOFFSETFROM:+0200
TZOFFSETTO:+0100
TZNAME:CET
DTSTART:20251026T010000
END:STANDARD
BEGIN:DAYLIGHT
TZOFFSETFROM:+0100
TZOFFSETTO:+0200
TZNAME:CEST
DTSTART:20260329T010000
END:DAYLIGHT
BEGIN:STANDARD
TZOFFSETFROM:+0200
TZOFFSETTO:+0100
TZNAME:CET
DTSTART:20261025T010000
END:STANDARD
BEGIN:DAYLIGHT
TZOFFSETFROM:+0100
TZOFFSETTO:+0200
TZNAME:CEST
DTSTART:20270328T010000
END:DAYLIGHT
BEGIN:STANDARD
TZOFFSETFROM:+0200
TZOFFSETTO:+0100
TZNAME:CET
DTSTART:20271031T010000
END:STANDARD
END:VTIMEZONE
BEGIN:VEVENT
DTSTART;TZID=Europe/Stockholm:20260731T110000
DTEND;TZID=Europe/Stockholm:20260731T110000
DTSTAMP:20260419T174355
CREATED:20260330T220118Z
LAST-MODIFIED:20260405T170531Z
UID:10000419-1785495600-1785495600@ystadjazz.se
SUMMARY:Eskil Roos
DESCRIPTION:Eskil Roos – piano \nGustav Sundquist – bass\nHampus Petersson – drums \nEskil Roos är en svensk pianist och kompositör baserad i Malmö. Han har utmärkt sig genom sitt lyriska anslag och sitt drömlika musikaliska uttryck som förmedlar både stillhet och drivkraft. I september släpper han sitt debutalbum ”Mystery of the Mind”. Musiken rör sig mellan nordisk jazz\, klassisk musik och folkmusik.
URL:https://ystadjazz.se/event/eskil-roos/
LOCATION:Bäckahästen\, Lilla Östergatan 6\, Ystad\, Skåne\, 27134\, Sverige
CATEGORIES:Next Jazz Generation
ATTACH;FMTTYPE=image/jpeg:https://ystadjazz.se/wp-content/uploads/2026/03/EskilRoos2_fotoJesper-Rosca.jpg
GEO:55.430311;13.821087
X-APPLE-STRUCTURED-LOCATION;VALUE=URI;X-ADDRESS=Bäckahästen Lilla Östergatan 6 Ystad Skåne 27134 Sverige;X-APPLE-RADIUS=500;X-TITLE=Lilla Östergatan 6:geo:13.821087,55.430311
END:VEVENT
BEGIN:VEVENT
DTSTART;TZID=Europe/Stockholm:20260731T110000
DTEND;TZID=Europe/Stockholm:20260731T110000
DTSTAMP:20260419T174355
CREATED:20260408T094206Z
LAST-MODIFIED:20260408T095435Z
UID:10000482-1785495600-1785495600@ystadjazz.se
SUMMARY:STÖDKONSERT TILL FÖRMÅN FÖR BARN I KRIG OCH PÅ FLYKT.
DESCRIPTION:Blue Light Jazzband:\nTore Gislén Trumpet\, trombon \nAnna Hedar. Saxofon\nHåkan Skytte Bas\nMartin Westerström Drums\nHåkan Rådström Gitarr \nBlue Light Jazzband är ett av Österlens äldsta och mest populära jazzkonstelationer. Det bjuds på tidlösa örhängen ur jazzens historia\, allt arrangeras på orkesterns egna stil – swing\, karibiskt och kanske en och annan vaggvisa. \nKonserten arrangeras i samarbete med Rädda Barnen i Ystad. Insamling på plats till Rädda barnens katastroffond som bl.a. når barnen i Ukraina\, Gaza och Jemen. \n 
URL:https://ystadjazz.se/event/stodkonsert-till-forman-for-barn-i-krig-och-pa-flykt/
LOCATION:Klosterkyrkan\, Klostergatan 15\, Ystad\, Sverige
CATEGORIES:Konsert
ATTACH;FMTTYPE=image/jpeg:https://ystadjazz.se/wp-content/uploads/2026/04/Blue-Light-Jazzband.jpg
GEO:55.4313922;13.8187672
X-APPLE-STRUCTURED-LOCATION;VALUE=URI;X-ADDRESS=Klosterkyrkan Klostergatan 15 Ystad Sverige;X-APPLE-RADIUS=500;X-TITLE=Klostergatan 15:geo:13.8187672,55.4313922
END:VEVENT
BEGIN:VEVENT
DTSTART;TZID=Europe/Stockholm:20260731T120000
DTEND;TZID=Europe/Stockholm:20260731T120000
DTSTAMP:20260419T174355
CREATED:20260330T220144Z
LAST-MODIFIED:20260330T112746Z
UID:10000465-1785499200-1785499200@ystadjazz.se
SUMMARY:Lunch Concert - Anna-Mia Barwe & Sven Wickström
DESCRIPTION:Biljett/Ticket\nAnna-Mia Barwe – vocals\nSven Wickström – guitar \nLunchjazz i Hannas House: Under Ystad Sweden Jazz Festival serverar Hannas House lunchjazz med fri entré för ätande gäster. Lunchen serveras kl 12.00 och konserten med Anna-Mia Barwe\, sång och Sven Wickström\, gitarr börjar kl 13.30. Är det fint väder hålls konserten på den mysiga innergården\, annars i stallet. Lunchmenyn presenteras på https://hannas.house\nAnna-Mia Barwe\, jazzsångerska sedan 30 år\, är känd inte minst för sin ”Jazz po skånska” (2002). Sven Wickström sjunger och spelar gitarr i sin egen grupp\, Sven Wickström Blues Band.
URL:https://ystadjazz.se/event/lunch-concert-anna-mia-barwe-sven-wickstrom-3/
LOCATION:Hannas House\, Örums Stora väg 21\, Hammenhög\, Skåne\, 276 55\, Sverige
CATEGORIES:Konsert
ATTACH;FMTTYPE=image/jpeg:https://ystadjazz.se/wp-content/uploads/2026/03/Anna-Mia-Barwe-och-Sven-Wic.jpg
GEO:55.6099;14.1998
X-APPLE-STRUCTURED-LOCATION;VALUE=URI;X-ADDRESS=Hannas House Örums Stora väg 21 Hammenhög Skåne 276 55 Sverige;X-APPLE-RADIUS=500;X-TITLE=Örums Stora väg 21:geo:14.1998,55.6099
END:VEVENT
BEGIN:VEVENT
DTSTART;TZID=Europe/Stockholm:20260731T130000
DTEND;TZID=Europe/Stockholm:20260731T130000
DTSTAMP:20260419T174355
CREATED:20260330T220109Z
LAST-MODIFIED:20260323T175518Z
UID:10000398-1785502800-1785502800@ystadjazz.se
SUMMARY:Camille Bertault Quintet “Bonjour mon amour”
DESCRIPTION:Biljett/Ticket\nCamille Bertault (FR) – vocals\nFady Farah (LB/FR) – piano\nJulien Alour (FR) – trumpet\nChristophe Minck (FR) – bass\nMinino Garay (AR/FR) – drums \nCamille Bertault är en Parisfödd sångerska och kompositör\, välkänd i franskt jazzliv och på väg att nå världsrykte. I amerikanska Vanity Fair har hon omtalats som ”The new voice of jazz” och ansedda jazzmagasinet DownBeat har beskrivit henne som en genial röstekvilibrist och en utmärkt kompositör och sångare med förmåga att frilägga ”den emotionella kraften” i en melodi. I webbmagasinet All About Jazz hyllas hennes sceniska karisma – ”like a one-woman Cirque du Soleil” – och förmåga att ”trollbinda” publiken.\nCamille Bertault började spela klassiskt piano som barn. Så småningom studerade hon komposition och började samtidigt sjunga. Hon upptäckte röstens förmåga att ”spela” instrument\, alla instrument hon inte skulle ha tid att lära sig\, har hon sagt i en intervju. År 2023 prisades Camille Bertault som årets vokalartist i Frankrikes motsvarighet till Grammis Årets jazz\, Victoires du Jazz. Om hennes innovativa kraft och musikaliska bredd som sångerska – från chanson till virtuos scatsång – vittnar sex album\, från ”En vie” (2016) till det senaste\, ”Voz e Vocês” (2025)\, där jazz\, folkmusik och funk samsas med influenser från brasiliansk musik. Albumet är en hyllning och kärleksförklaring till Brasilien och dess musik. År 2013 samlade Camille Bertault intryck och tog del av berättelser och sånger på plats under en tremånadersvistelse. Sedan dess återvänder hon en gång om året för musikaliska samarbeten. Albumet är inspelat med välkända brasilianska musiker som Guinga\, Trio Corrente och Hamilton de Holanda.
URL:https://ystadjazz.se/event/camille-bertault-quintet/
LOCATION:Ystad Saltsjöbad\, Saltsjöbadsvägen\, Ystad\, Skåne\, Sverige
CATEGORIES:Konsert
ATTACH;FMTTYPE=image/jpeg:https://ystadjazz.se/wp-content/uploads/2026/03/Camille-Bertault_by_-Thomas.jpg
GEO:55.4249393;13.8464932
X-APPLE-STRUCTURED-LOCATION;VALUE=URI;X-ADDRESS=Ystad Saltsjöbad Saltsjöbadsvägen Ystad Skåne Sverige;X-APPLE-RADIUS=500;X-TITLE=Saltsjöbadsvägen:geo:13.8464932,55.4249393
END:VEVENT
BEGIN:VEVENT
DTSTART;TZID=Europe/Stockholm:20260731T140000
DTEND;TZID=Europe/Stockholm:20260731T140000
DTSTAMP:20260419T174355
CREATED:20260330T220154Z
LAST-MODIFIED:20260405T170523Z
UID:10000421-1785506400-1785506400@ystadjazz.se
SUMMARY:VENYA
DESCRIPTION:Alice Wilgotsson – vocals \nLea Meldal Backhausen (DK) – trumpet \nEmmy Nordquist – guitar \nAnton Bergman – piano  \nAugust Kjær Agergaard (DK) – bass \nOsvald Metcalf-Rinaldo (DK) – drums \nVENYA är ett band som blandar improvisatoriska element från jazzen med popens groove och energi. Bandets musik bjuder på starka melodier\, ett magnifikt sound och kombinerar elektroniska och akustiska element. Texterna kretsar sig kring relationer\, kärlek\, att växa och livets olika kontraster. Bandet bildades 2025 på Skurups Folkhögskola och består av tre svenskar och tre danskar.
URL:https://ystadjazz.se/event/venya/
LOCATION:Bäckahästen\, Lilla Östergatan 6\, Ystad\, Skåne\, 27134\, Sverige
CATEGORIES:Next Jazz Generation
ATTACH;FMTTYPE=image/jpeg:https://ystadjazz.se/wp-content/uploads/2026/03/VENYA-foto-Fabian_Gribing2.jpg
GEO:55.430311;13.821087
X-APPLE-STRUCTURED-LOCATION;VALUE=URI;X-ADDRESS=Bäckahästen Lilla Östergatan 6 Ystad Skåne 27134 Sverige;X-APPLE-RADIUS=500;X-TITLE=Lilla Östergatan 6:geo:13.821087,55.430311
END:VEVENT
BEGIN:VEVENT
DTSTART;TZID=Europe/Stockholm:20260731T160000
DTEND;TZID=Europe/Stockholm:20260731T160000
DTSTAMP:20260419T174355
CREATED:20260330T220121Z
LAST-MODIFIED:20260325T094409Z
UID:10000441-1785513600-1785513600@ystadjazz.se
SUMMARY:Francesca Tandoi Trio
DESCRIPTION:Biljett/Ticket\nFrancesca Tandoi (IT) – piano\, vocals\nStefano Senni (IT) – bass \nPasquale Fiore (IT) – drums \nDen italienska pianisten\, sångerskan och kompositören Francesca Tandoi har på bara några år nått internationellt erkännande och hyllas för sina starka scenframträdanden. Förutom teknisk skicklighet har hon en rytmisk energi och ett sväng i Oscar Petersons efterföljd. Den världsberömde jazzpianisten Monty Alexander beskriver henne som ”smakfull pianist\, utsökt sångerska\, kompositör av minnesvärda låtar i tankeväckande arrangemang”. \nFrancesca Tandoi föddes i Rom och började spela klassiskt piano som barn. Hon fastnade tidigt för jazzen och har själv nämnt Oscar Peterson som en viktig inspirationskälla. År 2009 flyttade hon till Nederländerna för att studera vid konservatorierna i Haag och Rotterdam. Direkt efter examina inledde hon sin internationella karriär med konsertturnéer i Europa\, Asien\, Afrika och Nordamerika. Hon har samarbetat med flera framstående jazzmusiker på scen och i inspelningsstudion\, däribland den amerikanske saxofonisten Scott Hamilton\, som också spelat i Ystad. Sedan 2014 har hon gjort sju album med sin trio och medverkat på över tjugofem inspelningar\, varav fyra med Scott Hamilton. Albumet ”Wind Dance” med Francesca Tandoi Trio hamnade på det japanska magasinet Jazz Lifes lista över de tio bästa jazzskivorna 2017. Hon hyllades som ”en av den internationella jazzscenens mest lovande unga talanger”. På senare år har hon bland annat gett ut ”When in Rome” (2022)\, Bop Web (2024) och liveversionen ”Bop Web – Nuccia Live” (2025). \nParallellt med sin karriär ger Francesca Tandoi masterclasses och kurser i jazzpiano.
URL:https://ystadjazz.se/event/francesca-tandoi-trio/
LOCATION:Ystads Teater\, Sjömansgatan 13\, Ystad\, 27143\, Sverige
CATEGORIES:Konsert
ATTACH;FMTTYPE=image/jpeg:https://ystadjazz.se/wp-content/uploads/2026/03/Francesca-Tandoi-foto_Paolo.jpg
GEO:55.4277177;13.8182511
X-APPLE-STRUCTURED-LOCATION;VALUE=URI;X-ADDRESS=Ystads Teater Sjömansgatan 13 Ystad 27143 Sverige;X-APPLE-RADIUS=500;X-TITLE=Sjömansgatan 13:geo:13.8182511,55.4277177
END:VEVENT
BEGIN:VEVENT
DTSTART;TZID=Europe/Stockholm:20260731T180000
DTEND;TZID=Europe/Stockholm:20260731T180000
DTSTAMP:20260419T174355
CREATED:20260330T220126Z
LAST-MODIFIED:20260331T071532Z
UID:10000449-1785520800-1785520800@ystadjazz.se
SUMMARY:Hannah Svensson Band “40”
DESCRIPTION:Biljett/Ticket\nHannah Svensson – vocals\nKlas Lindquist – saxophone\nSven Erik Lundeqvist – piano\nMattias Svensson – bass\nPaul Svanberg – drums \nHannah Svensson är en av Sveriges främsta jazzsångerskor\, tillika låtskrivare och bildkonstnär\, och en uppskattad artist på Ystad Sweden Jazz Festival. Med utstrålning och energi\, musikalisk känsla och uttrycksfulla tolkningar lovordas hon av både publik och kritiker. I denna konsert gör hon en personlig återblick på musiken som har präglat hennes karriär\, så här långt: ”Att fylla 40 är en milstolpe i livet såväl som musikaliskt. En insikt om att det har blivit en hel del låtar och album längs vägen.”\nDet senaste soloalbumet\, ”The Other Way Around”\, kom ut 2023 och bland de första återfinns ”Each Little Moment”\, 2014. Däremellan har Hannah Svensson gett ut ”Snowflakes in December” (2022) och ”Places and Dreams” (2019). Bemötandet i musikpressen\, såväl svensk som utländsk\, har varit positivt\, och inte minst har kompositören och textförfattaren Hannah Svensson uppmärksammats för starka melodier och berörande texter. I sin recension av ”Places and Dreams” skrev den renommerade musikkritikern Michael Tucker i Jazz Journal: ”Jag har länge varit imponerad av Svensson\, både live och på skiva.”\nHannah Svensson har samarbetat med många framstående musiker\, både i Sverige och utomlands. I Hannah Svensson Band har hon samlat fyra namnkunniga svenska jazzmusiker: saxofonisten Klas Lindquist\, pianisten Sven Erik Lundeqvist\, basisten Mattias Svensson och trumslagaren Paul Svanberg. I ”40” samsas dynamiska tolkningar av sånger ur den amerikanska sångboken och originalkompositioner\, inspirerade av klassisk jazz\, bebop och blues.
URL:https://ystadjazz.se/event/hannah-svensson-band-40/
LOCATION:Hotell Fritiden\, Österleden 19\, Ystad\, Skåne\, 27142\, Sverige
CATEGORIES:Konsert
ATTACH;FMTTYPE=image/jpeg:https://ystadjazz.se/wp-content/uploads/2026/03/Hannah-Lundgren_Photo-James.jpg
GEO:55.4283905;13.829101
X-APPLE-STRUCTURED-LOCATION;VALUE=URI;X-ADDRESS=Hotell Fritiden Österleden 19 Ystad Skåne 27142 Sverige;X-APPLE-RADIUS=500;X-TITLE=Österleden 19:geo:13.829101,55.4283905
END:VEVENT
BEGIN:VEVENT
DTSTART;TZID=Europe/Stockholm:20260731T190000
DTEND;TZID=Europe/Stockholm:20260731T190000
DTSTAMP:20260419T174355
CREATED:20260330T220130Z
LAST-MODIFIED:20260323T175813Z
UID:10000429-1785524400-1785524400@ystadjazz.se
SUMMARY:Mattias Nilsson & Jimmi Roger Pedersen – "Art of the Duo"
DESCRIPTION:Biljett/Ticket\nNär den svenske pianisten Mattias Nilsson möter den danske kontrabasisten Jimmi Roger Pedersen uppstår ett musikaliskt möte fyllt av lyhördhet\, sväng och nordisk klangpoesi. \nMattias Nilsson är en internationellt verksam jazzpianist och kompositör som gjort över två tusen konserter i mer än trettio länder. Hans musik rör sig fritt mellan jazz\, nordisk folkmusik och klassiska klanger och kännetecknas av ett varmt\, lyriskt och personligt uttryck. Nilsson har samarbetat med en rad internationella jazzmusiker och är känd för sina improvisationer där den nordiska melankolin möter spontan kreativitet. \nJimmi Roger Pedersen räknas som en av Danmarks mest virtuosa kontrabasister. Han studerade vid Rytmisk Musikkonservatorium i Köpenhamn för den legendariske basisten Niels-Henning Ørsted Pedersen och har under sin karriär turnerat internationellt i många år tillsammans med pianisten Horace Parlan samt spelat med jazzstorheter som Lee Konitz och Benny Bailey. Han har medverkat på över hundra inspelningar och har även gjort flera uppmärksammade soloalbum. \nI denna exklusiva duo möts piano och kontrabas i sitt mest avskalade format. Här finns inget att gömma sig bakom – bara två musiker i intensiv dialog där varje ton räknas. Resultatet är en konsert fylld av sväng\, improvisation och nordisk stämning där publiken kommer nära musiken och ögonblicket. \nEn upplevelse där tradition och spontanitet möts – och där jazzen lever i nuet.
URL:https://ystadjazz.se/event/mattias-nilsson-jimmi-roger-pedersen-art-of-the-duo/
LOCATION:Tingshuset 1881\, Hammenhög\, Ystadsvägen\, Hammenhög\, 27650\, Sverige
CATEGORIES:Konsert
ATTACH;FMTTYPE=image/jpeg:https://ystadjazz.se/wp-content/uploads/2026/03/Mattias-Nilsson-e1773394164683.jpg
GEO:55.4994872;14.1415458
X-APPLE-STRUCTURED-LOCATION;VALUE=URI;X-ADDRESS=Tingshuset 1881 Hammenhög Ystadsvägen Hammenhög 27650 Sverige;X-APPLE-RADIUS=500;X-TITLE=Ystadsvägen:geo:14.1415458,55.4994872
END:VEVENT
BEGIN:VEVENT
DTSTART;TZID=Europe/Stockholm:20260731T193000
DTEND;TZID=Europe/Stockholm:20260731T193000
DTSTAMP:20260419T174355
CREATED:20260330T220122Z
LAST-MODIFIED:20260330T112354Z
UID:10000469-1785526200-1785526200@ystadjazz.se
SUMMARY:Lady Lynette Quintet
DESCRIPTION:Biljett/Ticket\nLady Lynette – vocals \nInge Petersson Lindbäck – sax\, flute\nSven Bjerstedt – piano\nJohnny Åman – bas\nLennart Gruvstedt – drums \nJazzkonsert med Sommarbuffé: Fredagen den 31 juli blir det kvällskonsert med underbara jazz- och soulstjärnan Lady Lynette Koyana Bjerstedt. Jazz med ett stänk av soul och blues. Lady Lynette har för kvällen tagit med sig några av Sveriges finaste jazz-musiker: Lennart Gruvstedt\, trummor\, Johnny Åman\, bas\, Sven Bjerstedt piano\, Inge Petersson Lindbäck\, sax & flöjt.\nJazzsångerskan Lady Lynette är född i Sydafrika och uppväxt i Sverige. Hon behärskar flera genrer. Under 90-talet turnerade hon i Japan som soul/popsångerska. Hon också har varit backupvokalist åt Tom Jones samt uppträtt med Count Basie-trummisen Butch Miles.
URL:https://ystadjazz.se/event/lady-lynette-quintet/
LOCATION:Hannas House\, Örums Stora väg 21\, Hammenhög\, Skåne\, 276 55\, Sverige
CATEGORIES:Konsert
ATTACH;FMTTYPE=image/jpeg:https://ystadjazz.se/wp-content/uploads/2026/03/LADY-LYNETTE-foto_Elina-Kah.jpg
GEO:55.6099;14.1998
X-APPLE-STRUCTURED-LOCATION;VALUE=URI;X-ADDRESS=Hannas House Örums Stora väg 21 Hammenhög Skåne 276 55 Sverige;X-APPLE-RADIUS=500;X-TITLE=Örums Stora väg 21:geo:14.1998,55.6099
END:VEVENT
BEGIN:VEVENT
DTSTART;TZID=Europe/Stockholm:20260731T200000
DTEND;TZID=Europe/Stockholm:20260731T200000
DTSTAMP:20260419T174355
CREATED:20260330T220132Z
LAST-MODIFIED:20260329T181724Z
UID:10000425-1785528000-1785528000@ystadjazz.se
SUMMARY:Kebnekajse
DESCRIPTION:Biljett/Ticket\nKenny Håkansson – guitar\nMats Glenngård – violin\nGöran Lagerberg – bass \nFrank Sanderson – drums \nDet legendariska svenska bandet Kebnekajse med rötterna i det tidiga 70-\ntalets svenska proggrörelse kommer till Solhällan I Löderup med sin fascinerande mix av folkrock\, jazzrock och allt som kan vara värt att utforska däremellan. \nKebnekajse skapade en egen nisch redan med sitt gitarrlarmiga och lite\npsykedeliskt inspirerade debutalbum ”Resa mot okänt mål” (1971)\, och sedan\ndess har resan nyfiket gått vidare i nya spännande och oförutsägbara\nfärdriktningar hela vägen fram till det senaste albumet ”Aventure” (2012). \nRäkna med en kväll med såväl oförutsägbara som bekanta musikaliska\nutflykter av ett band som sedan länge skrivit in sig i svensk musikhistoria.
URL:https://ystadjazz.se/event/kebnekajse/
LOCATION:Solhällan\, Löderup\, Parkgatan 5\, Löderup\, 27640\, Sverige
CATEGORIES:Konsert
ATTACH;FMTTYPE=image/jpeg:https://ystadjazz.se/wp-content/uploads/2026/03/Bild3-Kebne-scaled.jpg
GEO:55.4402236;14.1154069
X-APPLE-STRUCTURED-LOCATION;VALUE=URI;X-ADDRESS=Solhällan Löderup Parkgatan 5 Löderup 27640 Sverige;X-APPLE-RADIUS=500;X-TITLE=Parkgatan 5:geo:14.1154069,55.4402236
END:VEVENT
BEGIN:VEVENT
DTSTART;TZID=Europe/Stockholm:20260731T210000
DTEND;TZID=Europe/Stockholm:20260731T210000
DTSTAMP:20260419T174355
CREATED:20260330T220152Z
LAST-MODIFIED:20260325T094525Z
UID:10000445-1785531600-1785531600@ystadjazz.se
SUMMARY:Jan Lundgren\, Rosario Giuliani\, Roberto Gatto\, Hans Backenroth ”Sweden loves Italy”
DESCRIPTION:Biljett/Ticket\nJan Lundgren – piano\nRosario Giuliani (IT) – alto sax\nRoberto Gatto (IT) – drums\nHans Backenroth – bass \nHär en nybildad svensk-italiensk kvartett bestående av framstående jazzmusiker i båda länderna och på den internationella musikscenen. Jazzfestivalens konstnärlige ledare pianisten Jan Lundgren och basisten Hans Backenroth samt saxofonisten Rosario Giuliani och trumslagaren Roberto Gatto framför musik vars röda tråd är kärleken till Italien. Den italienska filmmusiken representerad av Ennio Morricone och Nino Rota är given och får sällskap av originalkompositioner av gruppens musiker. \nJan Lundgren och Hans Backenroth gjorde båda sitt inträde på den skandinaviska jazzscenen på 1990-talet och har samarbetat i flera olika ensembler och sammanhang under många år. År 2022 gav de ut duoalbumet ”Jazz Poetry”. Båda samarbetade tidigt i karriären med jazzlegendaren Arne Domnérus. \nRosario Giuliani är en högt ansedd saxofonist som har samarbetat med prominenta jazzmusiker som Charlie Haden\, Enrico Rava och Richard Galliano. Han har gett ut flera album i eget namn\, bland annat ”Cinema Italia” (2016)\, en hyllning till italiensk filmmusik. År 2022 gav Rosario Giuliani och Luciano Biondini en hyllad konsert med samma titel och budskap på Ystad Sweden Jazz Festival. \nTrumslagaren Roberto Gatto debuterade som professionell jazzmusiker 1975 och har spelat med många stora namn\, bland annat Chet Baker\, Lee Konitz\, Joe Zawinul\, Joe Lovano och Paolo Fresu. Han har gett ut ett stort antal album som bandledare och är också framgångsrik som kompositör av filmmusik.
URL:https://ystadjazz.se/event/jan-lundgren-rosario-giuliani-roberto-gatto-hans-backenroth-sweden-loves-italy/
LOCATION:Ystads Teater\, Sjömansgatan 13\, Ystad\, 27143\, Sverige
CATEGORIES:Konsert
ATTACH;FMTTYPE=image/jpeg:https://ystadjazz.se/wp-content/uploads/2026/03/Jan-31-juli-21.00.jpg
GEO:55.4277177;13.8182511
X-APPLE-STRUCTURED-LOCATION;VALUE=URI;X-ADDRESS=Ystads Teater Sjömansgatan 13 Ystad 27143 Sverige;X-APPLE-RADIUS=500;X-TITLE=Sjömansgatan 13:geo:13.8182511,55.4277177
END:VEVENT
BEGIN:VEVENT
DTSTART;TZID=Europe/Stockholm:20260731T220000
DTEND;TZID=Europe/Stockholm:20260731T220000
DTSTAMP:20260419T174355
CREATED:20260330T220135Z
LAST-MODIFIED:20260325T102456Z
UID:10000453-1785535200-1785535200@ystadjazz.se
SUMMARY:JAM SESSIONS - Aaron Mandelmann Trio
DESCRIPTION:Aaron Mandelmann – bass\nEbba Dankel / Sven Erik Lundeqvist – piano\nPontus Häggblom – drums \nThe jam sessions\, jammen\, är ett populärt inslag i jazzfestivalens utbud. De har ägt rum på olika platser under tidigare festivaler och i år är Hotel Continental du Sud\, Sveriges äldsta hotell\, arenan för jazzfestivalens jam sessions. \nÅrets husband är Aaron Mandelmann Trio under ledning av basisten och kompositören Aaron Mandelmann\, Malmöbaserad musiker som turnerar flitigt i Skandinavien och övriga Europa. Onsdagens pianist är Ebba Dankel\, prisbelönt musiker som för närvarande studerar på Berklee College i Boston. På torsdagen och fredagen sitter superpianisten och jamveteranen Sven Erik Lundeqvist vid tangenterna. Hans trio har varit uppskattat husband under många festivaljam. Husbandets trummis är Pontus Häggblom\, som spelar i flera jazzgrupper. \nNågra avslutande ord från Aaron Mandelmann: \n“Välkommen till ett sprudlande jazzjam där spelglädjen styr! Vi rör oss fritt mellan elegant swing och explosiv bebop\, med gott om plats för improvisation och spontana infall. Förvänta dig en inkluderande kväll fylld av sväng\, där tröskeln är låg\, taket högt och nästa ton en spännande överraskning. Kom som du är\, lyssna eller sitt in!”
URL:https://ystadjazz.se/event/jam-sessions-aaron-mandelmann-trio/2026-07-31/
LOCATION:Continental Du Sud\, Hamngatan 13\, Ystad\, Skåne\, 27143\, Sverige
CATEGORIES:Konsert
ATTACH;FMTTYPE=image/jpeg:https://ystadjazz.se/wp-content/uploads/2026/03/Aaron-Mandelmann.jpg
END:VEVENT
END:VCALENDAR