BEGIN:VCALENDAR
VERSION:2.0
PRODID:-//Ystad Sweden Jazz Festival - ECPv6.15.20//NONSGML v1.0//EN
CALSCALE:GREGORIAN
METHOD:PUBLISH
X-WR-CALNAME:Ystad Sweden Jazz Festival
X-ORIGINAL-URL:https://ystadjazz.se
X-WR-CALDESC:Händelser för Ystad Sweden Jazz Festival
REFRESH-INTERVAL;VALUE=DURATION:PT1H
X-Robots-Tag:noindex
X-PUBLISHED-TTL:PT1H
BEGIN:VTIMEZONE
TZID:Europe/Stockholm
BEGIN:DAYLIGHT
TZOFFSETFROM:+0100
TZOFFSETTO:+0200
TZNAME:CEST
DTSTART:20250330T010000
END:DAYLIGHT
BEGIN:STANDARD
TZOFFSETFROM:+0200
TZOFFSETTO:+0100
TZNAME:CET
DTSTART:20251026T010000
END:STANDARD
BEGIN:DAYLIGHT
TZOFFSETFROM:+0100
TZOFFSETTO:+0200
TZNAME:CEST
DTSTART:20260329T010000
END:DAYLIGHT
BEGIN:STANDARD
TZOFFSETFROM:+0200
TZOFFSETTO:+0100
TZNAME:CET
DTSTART:20261025T010000
END:STANDARD
BEGIN:DAYLIGHT
TZOFFSETFROM:+0100
TZOFFSETTO:+0200
TZNAME:CEST
DTSTART:20270328T010000
END:DAYLIGHT
BEGIN:STANDARD
TZOFFSETFROM:+0200
TZOFFSETTO:+0100
TZNAME:CET
DTSTART:20271031T010000
END:STANDARD
END:VTIMEZONE
BEGIN:VEVENT
DTSTART;TZID=Europe/Stockholm:20260730T110000
DTEND;TZID=Europe/Stockholm:20260730T110000
DTSTAMP:20260419T194250
CREATED:20260330T220137Z
LAST-MODIFIED:20260408T100455Z
UID:10000415-1785409200-1785409200@ystadjazz.se
SUMMARY:Edit Ljungqvist Kvartett
DESCRIPTION:Edit Ljungqvist – vocals \nRagnar Bergholm Larsson – guitar\nArvid Wester – bass\nArvid Bexelius – drums  \nFlera av musikerna i Edit Ljungqvist Kvartett också studerar musik i Skåne. Bandet spelar både egenskrivet material samt omharmoniseringar och egna arrangemang på både klassiska och gömda standardlåtar. Kvartetten består av Edit Ljungqvist på sång\, Arvid Wester på kontrabas\, Ragnar Bergholm Larsson på gitarr och Arvid Bexelius på trummor.
URL:https://ystadjazz.se/event/edit-ljungkvist-kvartett/
LOCATION:Bäckahästen\, Lilla Östergatan 6\, Ystad\, Skåne\, 27134\, Sverige
CATEGORIES:Next Jazz Generation
ATTACH;FMTTYPE=image/jpeg:https://ystadjazz.se/wp-content/uploads/2026/03/Edit-Ljungqvist-kvartett_w.jpg
GEO:55.430311;13.821087
X-APPLE-STRUCTURED-LOCATION;VALUE=URI;X-ADDRESS=Bäckahästen Lilla Östergatan 6 Ystad Skåne 27134 Sverige;X-APPLE-RADIUS=500;X-TITLE=Lilla Östergatan 6:geo:13.821087,55.430311
END:VEVENT
BEGIN:VEVENT
DTSTART;TZID=Europe/Stockholm:20260730T140000
DTEND;TZID=Europe/Stockholm:20260730T140000
DTSTAMP:20260419T194250
CREATED:20260330T220129Z
LAST-MODIFIED:20260405T170348Z
UID:10000417-1785420000-1785420000@ystadjazz.se
SUMMARY:KINDLY
DESCRIPTION:August Kjær Agergaard (DK) – bass \nEmil Boesen (DK) – alto/soprano sax\, flute \nAnton Bergman – piano \nHolme Fernholm – drums \nKINDLY är en kvartett som spelar kompositioner av basisten och kompositören August Kjær Agergaard. Kompositionerna är melankoliska och känsliga och samtidigt energiska och intensiva. Musiken är inspirerad av en blandning av nordisk jazz\, fusion och singer-songwriting.  Medlemmarna i kvartetten träffades som deltagare på Skurup Folkhögskola
URL:https://ystadjazz.se/event/kindly/
LOCATION:Bäckahästen\, Lilla Östergatan 6\, Ystad\, Skåne\, 27134\, Sverige
CATEGORIES:Next Jazz Generation
ATTACH;FMTTYPE=image/jpeg:https://ystadjazz.se/wp-content/uploads/2026/03/Kindlyfoto_Elias_Nordh-w.jpg
GEO:55.430311;13.821087
X-APPLE-STRUCTURED-LOCATION;VALUE=URI;X-ADDRESS=Bäckahästen Lilla Östergatan 6 Ystad Skåne 27134 Sverige;X-APPLE-RADIUS=500;X-TITLE=Lilla Östergatan 6:geo:13.821087,55.430311
END:VEVENT
END:VCALENDAR