BEGIN:VCALENDAR
VERSION:2.0
PRODID:-//Ystad Sweden Jazz Festival - ECPv6.15.20//NONSGML v1.0//EN
CALSCALE:GREGORIAN
METHOD:PUBLISH
X-WR-CALNAME:Ystad Sweden Jazz Festival
X-ORIGINAL-URL:https://ystadjazz.se
X-WR-CALDESC:Händelser för Ystad Sweden Jazz Festival
REFRESH-INTERVAL;VALUE=DURATION:PT1H
X-Robots-Tag:noindex
X-PUBLISHED-TTL:PT1H
BEGIN:VTIMEZONE
TZID:Europe/Stockholm
BEGIN:DAYLIGHT
TZOFFSETFROM:+0100
TZOFFSETTO:+0200
TZNAME:CEST
DTSTART:20250330T010000
END:DAYLIGHT
BEGIN:STANDARD
TZOFFSETFROM:+0200
TZOFFSETTO:+0100
TZNAME:CET
DTSTART:20251026T010000
END:STANDARD
BEGIN:DAYLIGHT
TZOFFSETFROM:+0100
TZOFFSETTO:+0200
TZNAME:CEST
DTSTART:20260329T010000
END:DAYLIGHT
BEGIN:STANDARD
TZOFFSETFROM:+0200
TZOFFSETTO:+0100
TZNAME:CET
DTSTART:20261025T010000
END:STANDARD
BEGIN:DAYLIGHT
TZOFFSETFROM:+0100
TZOFFSETTO:+0200
TZNAME:CEST
DTSTART:20270328T010000
END:DAYLIGHT
BEGIN:STANDARD
TZOFFSETFROM:+0200
TZOFFSETTO:+0100
TZNAME:CET
DTSTART:20271031T010000
END:STANDARD
END:VTIMEZONE
BEGIN:VEVENT
DTSTART;TZID=Europe/Stockholm:20260418T190000
DTEND;TZID=Europe/Stockholm:20260418T190000
DTSTAMP:20260420T072243
CREATED:20260206T103821Z
LAST-MODIFIED:20260218T132507Z
UID:10000388-1776538800-1776538800@ystadjazz.se
SUMMARY:Konsert med Judith Hill
DESCRIPTION:I väntan på sommarens jazzfestival\, presenterar Ystad Jazz:Köp biljett! \nBoka Hotellpaket!\nJudith Hill den 18 april\nDen Grammy-belönade sångerskan\, låtskrivaren och multiinstrumentalisten Judith Hill kommer till Ystad den 18 april med musik ur bl.a. albumet “Letters From A Black Widow”.\n\nJudit Hill föddes i Los Angeles 1984. Mamma Michiko Hill (Yoshimura) är japansk pianist och pappa Robert Lee ”Pee Wee” Hill afroamerikansk funkmusiker.\n\nJudith Hill rör sig fritt mellan pop\, R&B\, jazz\, funk\, soul och gospel. Hon har uppträtt bakom namn som Prince\, Michael Jackson\, Josh Groban\, Eric Clapton och många andra kända musiker. Hennes debutalbum 2015\, ”Back in Time”\, medproducerades av Prince. Judith Hill vann en Grammy för sin insats i filmen ”20 Feet from Stardom”\, som handlar om bakgrundssångarna bakom 2000-talets största musiklegendarer.\nFinns mycket att berätta om denna musikaliska urkraft.\nVi är mycket glada att få presentera Judith Hill i Ystad! \nJudith Hill – sång\, piano\, gitarr \nPeewee Hill – bas \nMichiko Hill – keyboards\, B3-orgel \nShadrack Oppong – trummor \nLördag 18 april kl 19.00 på Fritiden Hotell & Kongress \n 
URL:https://ystadjazz.se/event/konsert-med-judith-hill/
LOCATION:Hotell Fritiden\, Österleden 19\, Ystad\, Skåne\, 27142\, Sverige
CATEGORIES:Konsert
ATTACH;FMTTYPE=image/jpeg:https://ystadjazz.se/wp-content/uploads/2026/02/Judith-Hill-Ginger-Sole-2.jpg
GEO:55.4283905;13.829101
X-APPLE-STRUCTURED-LOCATION;VALUE=URI;X-ADDRESS=Hotell Fritiden Österleden 19 Ystad Skåne 27142 Sverige;X-APPLE-RADIUS=500;X-TITLE=Österleden 19:geo:13.829101,55.4283905
END:VEVENT
END:VCALENDAR