BEGIN:VCALENDAR
VERSION:2.0
PRODID:-//Ystad Sweden Jazz Festival - ECPv6.15.20//NONSGML v1.0//EN
CALSCALE:GREGORIAN
METHOD:PUBLISH
X-ORIGINAL-URL:https://ystadjazz.se/?lang=en
X-WR-CALDESC:Events for Ystad Sweden Jazz Festival
REFRESH-INTERVAL;VALUE=DURATION:PT1H
X-Robots-Tag:noindex
X-PUBLISHED-TTL:PT1H
BEGIN:VTIMEZONE
TZID:Europe/Stockholm
BEGIN:DAYLIGHT
TZOFFSETFROM:+0100
TZOFFSETTO:+0200
TZNAME:CEST
DTSTART:20250330T010000
END:DAYLIGHT
BEGIN:STANDARD
TZOFFSETFROM:+0200
TZOFFSETTO:+0100
TZNAME:CET
DTSTART:20251026T010000
END:STANDARD
BEGIN:DAYLIGHT
TZOFFSETFROM:+0100
TZOFFSETTO:+0200
TZNAME:CEST
DTSTART:20260329T010000
END:DAYLIGHT
BEGIN:STANDARD
TZOFFSETFROM:+0200
TZOFFSETTO:+0100
TZNAME:CET
DTSTART:20261025T010000
END:STANDARD
BEGIN:DAYLIGHT
TZOFFSETFROM:+0100
TZOFFSETTO:+0200
TZNAME:CEST
DTSTART:20270328T010000
END:DAYLIGHT
BEGIN:STANDARD
TZOFFSETFROM:+0200
TZOFFSETTO:+0100
TZNAME:CET
DTSTART:20271031T010000
END:STANDARD
END:VTIMEZONE
BEGIN:VEVENT
DTSTART;VALUE=DATE:20260802
DTEND;VALUE=DATE:20260803
DTSTAMP:20260420T032806
CREATED:20260405T152943Z
LAST-MODIFIED:20260405T153013Z
UID:10000481-1785628800-1785715199@ystadjazz.se
SUMMARY:Day pass for both concerts at Charlottenlund on August 2
DESCRIPTION:Book a day pass! \nHere you can book a day pass for both concerts at Charlottenlund on August 2.
URL:https://ystadjazz.se/event/34016/?lang=en
LOCATION:Charlottenlund Castle\, Charlottenlunds allé 90\, Ystad\, Skåne\, 27193\, Sverige
CATEGORIES:Concert
ATTACH;FMTTYPE=image/jpeg:https://ystadjazz.se/wp-content/uploads/2025/07/YSJF2024_Charlottenlund-Pho.jpg
GEO:55.43167;13.6896
X-APPLE-STRUCTURED-LOCATION;VALUE=URI;X-ADDRESS=Charlottenlund Castle Charlottenlunds allé 90 Ystad Skåne 27193 Sverige;X-APPLE-RADIUS=500;X-TITLE=Charlottenlunds allé 90:geo:13.6896,55.43167
END:VEVENT
BEGIN:VEVENT
DTSTART;TZID=Europe/Stockholm:20260802T150000
DTEND;TZID=Europe/Stockholm:20260802T150000
DTSTAMP:20260420T032806
CREATED:20260330T220104Z
LAST-MODIFIED:20260325T092836Z
UID:10000401-1785682800-1785682800@ystadjazz.se
SUMMARY:Jill Johnson & Anders Berglund Big Band
DESCRIPTION:Biljett/Ticket\nJill Johnson – vocals\nAnders Berglund – conductor\nAnders Berglund Big Band \nDay two at Charlottenlund kicks off with one of Sweden’s most popular vocalists – Jill Johnson. She is best known as a pop and country singer but in her big band collaborations with conductor Anders Berglund she also ventures into jazz with a repertoire that includes songs from the Great American Songbook. Their past collaborations include a sell-out concert with the Monday Night Big Band at YSJF in 2019. \nJill Johnson is a diverse artist who has moved effortlessly between genres as a singer and songwriter in a musical career spanning over 30 years. She toured Scandinavia as a teenager with a country & western group\, had her first pop hit in 1996 and represented Sweden in the 1998 Eurovision Song Contest.
URL:https://ystadjazz.se/event/jill-johnson-anders-berglund-big-band/?lang=en
LOCATION:Charlottenlund Castle\, Charlottenlunds allé 90\, Ystad\, Skåne\, 27193\, Sverige
CATEGORIES:Concert
ATTACH;FMTTYPE=image/jpeg:https://ystadjazz.se/wp-content/uploads/2026/03/jill_johnson_anders_berglun.jpg
GEO:55.43167;13.6896
X-APPLE-STRUCTURED-LOCATION;VALUE=URI;X-ADDRESS=Charlottenlund Castle Charlottenlunds allé 90 Ystad Skåne 27193 Sverige;X-APPLE-RADIUS=500;X-TITLE=Charlottenlunds allé 90:geo:13.6896,55.43167
END:VEVENT
BEGIN:VEVENT
DTSTART;TZID=Europe/Stockholm:20260802T180000
DTEND;TZID=Europe/Stockholm:20260802T180000
DTSTAMP:20260420T032806
CREATED:20260330T220150Z
LAST-MODIFIED:20260329T182143Z
UID:10000424-1785693600-1785693600@ystadjazz.se
SUMMARY:Randy Brecker & Monday Night Big Band
DESCRIPTION:Biljett/Ticket\nRandy Brecker (US) – trumpet\nAnna Pauline – vocals\nMonday Night Big Band \nAmerican trumpet legend Randy Brecker makes a unique guest soloist appearance with the Monday Night Big Band for this concert at Solhällan. Randy Brecker\, a multiple Grammy-winning musician\, formed the influential jazz fusion duo\, the Brecker Brothers\, with his brother\, saxophonist Michael Brecker\, in 1975.
URL:https://ystadjazz.se/event/randy-brecker/?lang=en
LOCATION:Solhällan\, Löderup\, Parkgatan 5\, Löderup\, 27640\, Sverige
CATEGORIES:Concert
ATTACH;FMTTYPE=image/jpeg:https://ystadjazz.se/wp-content/uploads/2026/03/Randy-Brecker2.jpg
GEO:55.4402236;14.1154069
X-APPLE-STRUCTURED-LOCATION;VALUE=URI;X-ADDRESS=Solhällan Löderup Parkgatan 5 Löderup 27640 Sverige;X-APPLE-RADIUS=500;X-TITLE=Parkgatan 5:geo:14.1154069,55.4402236
END:VEVENT
BEGIN:VEVENT
DTSTART;TZID=Europe/Stockholm:20260802T183000
DTEND;TZID=Europe/Stockholm:20260802T183000
DTSTAMP:20260420T032806
CREATED:20260330T220154Z
LAST-MODIFIED:20260325T093204Z
UID:10000406-1785695400-1785695400@ystadjazz.se
SUMMARY:Veronica Swift & DR Big Band
DESCRIPTION:Biljett/Ticket\nVeronica Swift (US) – vocals\nDR Big Band  \nAmerican singer Veronica Swift has rapidly become one of the most acclaimed voices in jazz. The Wall Street Journal wrote “She has a miraculous voice\, musical ability and technique\, as well as an innate gift for entertaining a crowd\,” while Downbeat enthused about her versatile range: “Veronica Swift is a woman of many voices\, and she uses every one of them to refract a dizzying kaleidoscope of moods.” \nOn her latest album\, the self-titled “Veronica Swift” (2023)\, which she describes as “transgenre”\, she interprets songs drawn from opera\, classical music\, bossa nova\, blues\, funk and musicals.\nVeronica Swift is accompanied at Charlottenlund by the superb DR Big Band\, performing for the second time at this year’s festival.
URL:https://ystadjazz.se/event/veronica-swift-dr-big-band/?lang=en
LOCATION:Charlottenlund Castle\, Charlottenlunds allé 90\, Ystad\, Skåne\, 27193\, Sverige
CATEGORIES:Concert
ATTACH;FMTTYPE=image/jpeg:https://ystadjazz.se/wp-content/uploads/2026/03/Veronica-Swift2.jpg
GEO:55.43167;13.6896
X-APPLE-STRUCTURED-LOCATION;VALUE=URI;X-ADDRESS=Charlottenlund Castle Charlottenlunds allé 90 Ystad Skåne 27193 Sverige;X-APPLE-RADIUS=500;X-TITLE=Charlottenlunds allé 90:geo:13.6896,55.43167
END:VEVENT
END:VCALENDAR