BEGIN:VCALENDAR
VERSION:2.0
PRODID:-//Ystad Sweden Jazz Festival - ECPv6.15.20//NONSGML v1.0//EN
CALSCALE:GREGORIAN
METHOD:PUBLISH
X-WR-CALNAME:Ystad Sweden Jazz Festival
X-ORIGINAL-URL:https://ystadjazz.se/?lang=en
X-WR-CALDESC:Events for Ystad Sweden Jazz Festival
REFRESH-INTERVAL;VALUE=DURATION:PT1H
X-Robots-Tag:noindex
X-PUBLISHED-TTL:PT1H
BEGIN:VTIMEZONE
TZID:Europe/Stockholm
BEGIN:DAYLIGHT
TZOFFSETFROM:+0100
TZOFFSETTO:+0200
TZNAME:CEST
DTSTART:20250330T010000
END:DAYLIGHT
BEGIN:STANDARD
TZOFFSETFROM:+0200
TZOFFSETTO:+0100
TZNAME:CET
DTSTART:20251026T010000
END:STANDARD
BEGIN:DAYLIGHT
TZOFFSETFROM:+0100
TZOFFSETTO:+0200
TZNAME:CEST
DTSTART:20260329T010000
END:DAYLIGHT
BEGIN:STANDARD
TZOFFSETFROM:+0200
TZOFFSETTO:+0100
TZNAME:CET
DTSTART:20261025T010000
END:STANDARD
BEGIN:DAYLIGHT
TZOFFSETFROM:+0100
TZOFFSETTO:+0200
TZNAME:CEST
DTSTART:20270328T010000
END:DAYLIGHT
BEGIN:STANDARD
TZOFFSETFROM:+0200
TZOFFSETTO:+0100
TZNAME:CET
DTSTART:20271031T010000
END:STANDARD
END:VTIMEZONE
BEGIN:VEVENT
DTSTART;TZID=Europe/Stockholm:20260729T120000
DTEND;TZID=Europe/Stockholm:20260729T120000
DTSTAMP:20260421T211309
CREATED:20260330T220129Z
LAST-MODIFIED:20260330T105947Z
UID:10000458-1785326400-1785326400@ystadjazz.se
SUMMARY:Lunch Concert - Anna-Mia Barwe & Sven Wickström
DESCRIPTION:Biljett/Ticket \nAnna-Mia Barwe – vocals\nSven Wickström – guitar \nLunch Concert at Hannas House: During the Ystad Sweden Jazz Festival\, Hannas House will serve a lunch concert\, with free admission for eating guests. Lunch is served at 12.00 and the concert with vocalist Anna-Mia Barwe and guitarist Sven Wickström starts at 13.30. If the weather is fine\, the concert will be held in the cosy courtyard\, otherwise in the stable. The lunch menu is presented at https://hannas.house \nAnna-Mia Barwe has been a jazz singer for over 30 years. She has released a number of albums including ”Jazz po skånska” (2002). Sven Wickström is a singer and guitarist in his own group\, the Sven Wickström Blues Band.
URL:https://ystadjazz.se/event/lunch-concert-anna-mia-barwe-sven-wickstrom/?lang=en
LOCATION:Hannas House\, Örums Stora väg 21\, Hammenhög\, Skåne\, 276 55\, Sverige
CATEGORIES:Concert
ATTACH;FMTTYPE=image/jpeg:https://ystadjazz.se/wp-content/uploads/2026/03/Anna-Mia-Barwe-och-Sven-Wic.jpg
GEO:55.6099;14.1998
X-APPLE-STRUCTURED-LOCATION;VALUE=URI;X-ADDRESS=Hannas House Örums Stora väg 21 Hammenhög Skåne 276 55 Sverige;X-APPLE-RADIUS=500;X-TITLE=Örums Stora väg 21:geo:14.1998,55.6099
END:VEVENT
END:VCALENDAR