BEGIN:VCALENDAR
VERSION:2.0
PRODID:-//Ystad Sweden Jazz Festival - ECPv6.15.20//NONSGML v1.0//EN
CALSCALE:GREGORIAN
METHOD:PUBLISH
X-ORIGINAL-URL:https://ystadjazz.se
X-WR-CALDESC:Händelser för Ystad Sweden Jazz Festival
REFRESH-INTERVAL;VALUE=DURATION:PT1H
X-Robots-Tag:noindex
X-PUBLISHED-TTL:PT1H
BEGIN:VTIMEZONE
TZID:Europe/Stockholm
BEGIN:DAYLIGHT
TZOFFSETFROM:+0100
TZOFFSETTO:+0200
TZNAME:CEST
DTSTART:20250330T010000
END:DAYLIGHT
BEGIN:STANDARD
TZOFFSETFROM:+0200
TZOFFSETTO:+0100
TZNAME:CET
DTSTART:20251026T010000
END:STANDARD
BEGIN:DAYLIGHT
TZOFFSETFROM:+0100
TZOFFSETTO:+0200
TZNAME:CEST
DTSTART:20260329T010000
END:DAYLIGHT
BEGIN:STANDARD
TZOFFSETFROM:+0200
TZOFFSETTO:+0100
TZNAME:CET
DTSTART:20261025T010000
END:STANDARD
BEGIN:DAYLIGHT
TZOFFSETFROM:+0100
TZOFFSETTO:+0200
TZNAME:CEST
DTSTART:20270328T010000
END:DAYLIGHT
BEGIN:STANDARD
TZOFFSETFROM:+0200
TZOFFSETTO:+0100
TZNAME:CET
DTSTART:20271031T010000
END:STANDARD
END:VTIMEZONE
BEGIN:VEVENT
DTSTART;TZID=Europe/Stockholm:20260729T190000
DTEND;TZID=Europe/Stockholm:20260729T190000
DTSTAMP:20260420T074137
CREATED:20260419T163430Z
LAST-MODIFIED:20260419T163430Z
UID:10000484-1785351600-1785351600@ystadjazz.se
SUMMARY:Match Made In Heaven
DESCRIPTION:Nina Håcansson – vocal \nChristoffer Zaar – guitar \nAlexander Lundberg – bass \nJörgen Reinman Ehle – drums  \nMatch Made In Heaven är en duo från Ystad bestående av Ninna Håcansson och Christoffer Zaar\, som med sina starka melodier och tajta stämsång ständigt jobbar med att bredda sin repertoar. Under en kväll på O’Learys i Ystad kommer duon att\, tillsammans med trumslagaren Jörgen Reiman Ehle och basisten Alexander Lundberg\, bjuda på otippade tolkningar och egenskrivna låtar i jazzens tecken. \nFri entré!
URL:https://ystadjazz.se/event/match-made-in-heaven/
LOCATION:O’Learys Ystad\, Fridhemsgatan 27\, Ystad\, 27145\, Sverige
CATEGORIES:Konsert
ATTACH;FMTTYPE=image/jpeg:https://ystadjazz.se/wp-content/uploads/2026/04/Match-Made-In-Heaven.jpg
GEO:55.4335239;13.8334258
X-APPLE-STRUCTURED-LOCATION;VALUE=URI;X-ADDRESS=O’Learys Ystad Fridhemsgatan 27 Ystad 27145 Sverige;X-APPLE-RADIUS=500;X-TITLE=Fridhemsgatan 27:geo:13.8334258,55.4335239
END:VEVENT
BEGIN:VEVENT
DTSTART;TZID=Europe/Stockholm:20260729T203000
DTEND;TZID=Europe/Stockholm:20260729T203000
DTSTAMP:20260420T074137
CREATED:20260419T164101Z
LAST-MODIFIED:20260419T164115Z
UID:10000486-1785357000-1785357000@ystadjazz.se
SUMMARY:Lizas Quintet
DESCRIPTION:Elisabeth Zaar – vocals / harmonica\nOla Denward – saxophone / clarinet\nMartin Nilsson – piano / vocals\nGabriel Pyk-Waite – bass\nThomas Opava – percussion\nGöran Grufstedt – drums \nGillar ni melodiös jazz? Lite Nora Jones lite Ella Fitzgerald\, svängiga bossainspirerande låtar\, soft sång med blues och jazzkänsla. Softa pianosolon eller tunga blåssolon. Egenkomponerade låtar med avstamp i jazzen\, blues\, bossa och lite soul. Gillar ni allt detta då gillar ni Lizas Kvintett\, det lokala Ystadbandet. \nIngen entréavgift
URL:https://ystadjazz.se/event/lizas-quintet/
LOCATION:O’Learys Ystad\, Fridhemsgatan 27\, Ystad\, 27145\, Sverige
CATEGORIES:Konsert
ATTACH;FMTTYPE=image/jpeg:https://ystadjazz.se/wp-content/uploads/2026/04/Lizas-Kvintett.jpg
GEO:55.4335239;13.8334258
X-APPLE-STRUCTURED-LOCATION;VALUE=URI;X-ADDRESS=O’Learys Ystad Fridhemsgatan 27 Ystad 27145 Sverige;X-APPLE-RADIUS=500;X-TITLE=Fridhemsgatan 27:geo:13.8334258,55.4335239
END:VEVENT
BEGIN:VEVENT
DTSTART;TZID=Europe/Stockholm:20260730T190000
DTEND;TZID=Europe/Stockholm:20260730T190000
DTSTAMP:20260420T074137
CREATED:20260419T164450Z
LAST-MODIFIED:20260419T164725Z
UID:10000488-1785438000-1785438000@ystadjazz.se
SUMMARY:Jazzquiz med Match Made In Heaven
DESCRIPTION:Nina Håcansson – vocal \nChristoffer Zaar – guitar \nAlexander Lundberg – bass \nJörgen Reinman Ehle – drums  \nVarmt välkomna till Ystads och O’Learys första jazzquiz mellan 19:00-21:00! Kvällen leds av duon Match Made In Heaven bestående av Christoffer Zaar och Ninna Håcansson. Det blir ett brett quiz med livemusik\, introtävlingar\, visuellt material på restaurangens skärmar och mycket mer.  \nFri entré
URL:https://ystadjazz.se/event/jazzquiz-med-match-made-in-heaven/
LOCATION:O’Learys Ystad\, Fridhemsgatan 27\, Ystad\, 27145\, Sverige
CATEGORIES:Konsert
ATTACH;FMTTYPE=image/jpeg:https://ystadjazz.se/wp-content/uploads/2026/04/Match-Made-In-Heaven.jpg
GEO:55.4335239;13.8334258
X-APPLE-STRUCTURED-LOCATION;VALUE=URI;X-ADDRESS=O’Learys Ystad Fridhemsgatan 27 Ystad 27145 Sverige;X-APPLE-RADIUS=500;X-TITLE=Fridhemsgatan 27:geo:13.8334258,55.4335239
END:VEVENT
BEGIN:VEVENT
DTSTART;TZID=Europe/Stockholm:20260730T211500
DTEND;TZID=Europe/Stockholm:20260730T211500
DTSTAMP:20260420T074137
CREATED:20260419T164924Z
LAST-MODIFIED:20260419T165150Z
UID:10000490-1785446100-1785446100@ystadjazz.se
SUMMARY:Lizas Quintet
DESCRIPTION:Elisabeth Zaar – vocals / harmonica \nOla Denward – saxophone / clarinet \nMartin Nilsson – piano / vocals \nGabriel Pyk-Waite – bass \nThomas Opava – percussion \nGöran Grufstedt – drums \nGillar ni melodiös jazz? Lite Nora Jones lite Ella Fitzgerald\, svängiga bossainspirerande låtar\, soft sång med blues och jazzkänsla. Softa pianosolon eller tunga blåssolon. Egenkomponerade låtar med avstamp i jazzen\, blues\, bossa och lite soul. Gillar ni allt detta då gillar ni Lizas Kvintett\, det lokala Ystadbandet.  \nFri entré!
URL:https://ystadjazz.se/event/lizas-quintet-2/
LOCATION:O’Learys Ystad\, Fridhemsgatan 27\, Ystad\, 27145\, Sverige
CATEGORIES:Konsert
ATTACH;FMTTYPE=image/jpeg:https://ystadjazz.se/wp-content/uploads/2026/04/Lizas-Kvintett.jpg
GEO:55.4335239;13.8334258
X-APPLE-STRUCTURED-LOCATION;VALUE=URI;X-ADDRESS=O’Learys Ystad Fridhemsgatan 27 Ystad 27145 Sverige;X-APPLE-RADIUS=500;X-TITLE=Fridhemsgatan 27:geo:13.8334258,55.4335239
END:VEVENT
END:VCALENDAR