BEGIN:VCALENDAR
VERSION:2.0
PRODID:-//Ystad Sweden Jazz Festival - ECPv6.15.20//NONSGML v1.0//EN
CALSCALE:GREGORIAN
METHOD:PUBLISH
X-ORIGINAL-URL:https://ystadjazz.se
X-WR-CALDESC:Händelser för Ystad Sweden Jazz Festival
REFRESH-INTERVAL;VALUE=DURATION:PT1H
X-Robots-Tag:noindex
X-PUBLISHED-TTL:PT1H
BEGIN:VTIMEZONE
TZID:Europe/Stockholm
BEGIN:DAYLIGHT
TZOFFSETFROM:+0100
TZOFFSETTO:+0200
TZNAME:CEST
DTSTART:20250330T010000
END:DAYLIGHT
BEGIN:STANDARD
TZOFFSETFROM:+0200
TZOFFSETTO:+0100
TZNAME:CET
DTSTART:20251026T010000
END:STANDARD
BEGIN:DAYLIGHT
TZOFFSETFROM:+0100
TZOFFSETTO:+0200
TZNAME:CEST
DTSTART:20260329T010000
END:DAYLIGHT
BEGIN:STANDARD
TZOFFSETFROM:+0200
TZOFFSETTO:+0100
TZNAME:CET
DTSTART:20261025T010000
END:STANDARD
BEGIN:DAYLIGHT
TZOFFSETFROM:+0100
TZOFFSETTO:+0200
TZNAME:CEST
DTSTART:20270328T010000
END:DAYLIGHT
BEGIN:STANDARD
TZOFFSETFROM:+0200
TZOFFSETTO:+0100
TZNAME:CET
DTSTART:20271031T010000
END:STANDARD
END:VTIMEZONE
BEGIN:VEVENT
DTSTART;TZID=Europe/Stockholm:20260729T214500
DTEND;TZID=Europe/Stockholm:20260729T214500
DTSTAMP:20260421T193644
CREATED:20260330T220128Z
LAST-MODIFIED:20260330T110856Z
UID:10000473-1785361500-1785361500@ystadjazz.se
SUMMARY:Festival-Tornväktare\, Nils Petter Molvaer\, blåser in festivalen!
DESCRIPTION:Sedan 1748 har Ystad sin Tornväktare som nattetid vakar över staden och blåser i sin lur för att förkunna att det är lugnt och stilla.\nVarje år utser jazzfestivalen en Festival-Tornväktare. I år är det trumpetaren Nils Petter Molvær som ska klättra de 107 smala trappstegen upp i S:ta Maria kyrkas torn och inviga festivalen.
URL:https://ystadjazz.se/event/festival-tornvaktare-nils-petter-molvaer/
LOCATION:Sankta Maria kyrka\, Stortorget\, Ystad\, Skåne\, Sverige
CATEGORIES:Konsert
ATTACH;FMTTYPE=image/jpeg:https://ystadjazz.se/wp-content/uploads/2026/03/nils-petter-molvaer-Photo-R.jpg
GEO:55.429223;13.8198551
X-APPLE-STRUCTURED-LOCATION;VALUE=URI;X-ADDRESS=Sankta Maria kyrka Stortorget Ystad Skåne Sverige;X-APPLE-RADIUS=500;X-TITLE=Stortorget:geo:13.8198551,55.429223
END:VEVENT
BEGIN:VEVENT
DTSTART;TZID=Europe/Stockholm:20260729T220000
DTEND;TZID=Europe/Stockholm:20260729T220000
DTSTAMP:20260421T193644
CREATED:20260330T220117Z
LAST-MODIFIED:20260323T175011Z
UID:10000447-1785362400-1785362400@ystadjazz.se
SUMMARY:Nils Petter Molvær
DESCRIPTION:Biljett/Ticket\nNils Petter Molvær (NO) – trumpet\, electronics \nEn kvällskonsert i S:ta Maria kyrka med den världsberömde norske trumpetaren Nils Petter Molvær som med sina svävande improvisationer och elektroniska slingor och effekter skapar ett atmosfäriskt ljudlandskap i det vackra kyrkorummet. \nNils Petter Molvær\, tillika kompositör och producent\, blev känd på den norska jazzscenen i början av 1980-talet som medlem i kvintetten Masqualero ledd av basisten Arild Andersen och trumslagaren Jon Christensen. Gruppen\, som upplöstes 1991\, spelade in fyra album\, tre av dem på ECM. Nils Petter Molvær medverkade på andra ECM-inspelningar innan han 1997 gjorde sitt första soloalbum\, ”Khmer”. Verket betraktas som en milstolpe i elektronisk jazz och Nils Petter Molvær som en stilbildare i så kallad future jazz\, nu jazz eller jazztronica. Förra året släpptes livealbumet ”Khmer – Live in Bergen”\, ett konsertframförande av musiken på ”Khmer”. Nils Petter Molvær har genom åren fortsatt att skapa ljudvärldar med solotrumpeten som stilistisk konstant bland elektroniska element och genom att låta jazzen röra sig in i genrer som rock\, hiphop och konstmusik. Han har mellan ”Khmer” och ”Khmer – Live in Bergen” släppt åtta album i eget namn. Nils Petter Molvær har samarbetat med många kända artister\, till exempel Sly & Robbie och gitarristen Eivind Aarset. Han skriver också musik för film\, teater\, balett och tv-dokumentärer.\nÅr 2018 deltog Nils Petter Molvær i Ystad Sweden Jazz Festival med en minnesvärd solokonsert i gryningsljus vid Ales stenar.
URL:https://ystadjazz.se/event/nils-petter-molvaer/
LOCATION:Sankta Maria kyrka\, Stortorget\, Ystad\, Skåne\, Sverige
CATEGORIES:Konsert
ATTACH;FMTTYPE=image/jpeg:https://ystadjazz.se/wp-content/uploads/2026/03/NilsPetterMolvaer-Photo-Py-.jpg
GEO:55.429223;13.8198551
X-APPLE-STRUCTURED-LOCATION;VALUE=URI;X-ADDRESS=Sankta Maria kyrka Stortorget Ystad Skåne Sverige;X-APPLE-RADIUS=500;X-TITLE=Stortorget:geo:13.8198551,55.429223
END:VEVENT
END:VCALENDAR