BEGIN:VCALENDAR
VERSION:2.0
PRODID:-//Ystad Sweden Jazz Festival - ECPv6.15.20//NONSGML v1.0//EN
CALSCALE:GREGORIAN
METHOD:PUBLISH
X-WR-CALNAME:Ystad Sweden Jazz Festival
X-ORIGINAL-URL:https://ystadjazz.se/?lang=en
X-WR-CALDESC:Events for Ystad Sweden Jazz Festival
REFRESH-INTERVAL;VALUE=DURATION:PT1H
X-Robots-Tag:noindex
X-PUBLISHED-TTL:PT1H
BEGIN:VTIMEZONE
TZID:Europe/Stockholm
BEGIN:DAYLIGHT
TZOFFSETFROM:+0100
TZOFFSETTO:+0200
TZNAME:CEST
DTSTART:20250330T010000
END:DAYLIGHT
BEGIN:STANDARD
TZOFFSETFROM:+0200
TZOFFSETTO:+0100
TZNAME:CET
DTSTART:20251026T010000
END:STANDARD
BEGIN:DAYLIGHT
TZOFFSETFROM:+0100
TZOFFSETTO:+0200
TZNAME:CEST
DTSTART:20260329T010000
END:DAYLIGHT
BEGIN:STANDARD
TZOFFSETFROM:+0200
TZOFFSETTO:+0100
TZNAME:CET
DTSTART:20261025T010000
END:STANDARD
BEGIN:DAYLIGHT
TZOFFSETFROM:+0100
TZOFFSETTO:+0200
TZNAME:CEST
DTSTART:20270328T010000
END:DAYLIGHT
BEGIN:STANDARD
TZOFFSETFROM:+0200
TZOFFSETTO:+0100
TZNAME:CET
DTSTART:20271031T010000
END:STANDARD
END:VTIMEZONE
BEGIN:VEVENT
DTSTART;TZID=Europe/Stockholm:20260729T153000
DTEND;TZID=Europe/Stockholm:20260729T153000
DTSTAMP:20260421T223813
CREATED:20260330T220114Z
LAST-MODIFIED:20260329T181533Z
UID:10000477-1785339000-1785339000@ystadjazz.se
SUMMARY:Mimi Terris & Dan Knagg  “Vadå  jazz?”
DESCRIPTION:Mimi Terris – vocals\, percussion \nDan Knagg – vocals\, guitar\, percussion \nIn this YazzKidz concert\, Mimi Terris and Dan Knagg show that we are all born improvisors by exploring spontaneity and feelings in music with the young audience.\nVocalist\, composer and music teacher Mimi Terris has released several albums since 2012. Multi-instrumentalist Dan Knagg creates music with a focus on vocals and percussion.
URL:https://ystadjazz.se/event/mimi-terris-dan-knagg-vada-jazz-3/?lang=en
LOCATION:Backagården\, Östra Kustvägen 987\, Löderup\, Skåne\, 27177\, Sverige
CATEGORIES:JazzKidz
ATTACH;FMTTYPE=image/jpeg:https://ystadjazz.se/wp-content/uploads/2026/03/Mimi-och-Dan-K.jpg
GEO:55.3908961;14.0959826
X-APPLE-STRUCTURED-LOCATION;VALUE=URI;X-ADDRESS=Backagården Östra Kustvägen 987 Löderup Skåne 27177 Sverige;X-APPLE-RADIUS=500;X-TITLE=Östra Kustvägen 987:geo:14.0959826,55.3908961
END:VEVENT
END:VCALENDAR