BEGIN:VCALENDAR
VERSION:2.0
PRODID:-//Ystad Sweden Jazz Festival - ECPv6.15.20//NONSGML v1.0//EN
CALSCALE:GREGORIAN
METHOD:PUBLISH
X-WR-CALNAME:Ystad Sweden Jazz Festival
X-ORIGINAL-URL:https://ystadjazz.se/?lang=en
X-WR-CALDESC:Events for Ystad Sweden Jazz Festival
REFRESH-INTERVAL;VALUE=DURATION:PT1H
X-Robots-Tag:noindex
X-PUBLISHED-TTL:PT1H
BEGIN:VTIMEZONE
TZID:Europe/Stockholm
BEGIN:DAYLIGHT
TZOFFSETFROM:+0100
TZOFFSETTO:+0200
TZNAME:CEST
DTSTART:20250330T010000
END:DAYLIGHT
BEGIN:STANDARD
TZOFFSETFROM:+0200
TZOFFSETTO:+0100
TZNAME:CET
DTSTART:20251026T010000
END:STANDARD
BEGIN:DAYLIGHT
TZOFFSETFROM:+0100
TZOFFSETTO:+0200
TZNAME:CEST
DTSTART:20260329T010000
END:DAYLIGHT
BEGIN:STANDARD
TZOFFSETFROM:+0200
TZOFFSETTO:+0100
TZNAME:CET
DTSTART:20261025T010000
END:STANDARD
BEGIN:DAYLIGHT
TZOFFSETFROM:+0100
TZOFFSETTO:+0200
TZNAME:CEST
DTSTART:20270328T010000
END:DAYLIGHT
BEGIN:STANDARD
TZOFFSETFROM:+0200
TZOFFSETTO:+0100
TZNAME:CET
DTSTART:20271031T010000
END:STANDARD
END:VTIMEZONE
BEGIN:VEVENT
DTSTART;TZID=Europe/Stockholm:20260729T160000
DTEND;TZID=Europe/Stockholm:20260729T160000
DTSTAMP:20260421T210010
CREATED:20260330T220119Z
LAST-MODIFIED:20260325T094140Z
UID:10000434-1785340800-1785340800@ystadjazz.se
SUMMARY:Jan Lundgren with the Malmö Academy of Music Chamber Choir
DESCRIPTION:Biljett/Ticket\nJan Lundgren – piano\nMats Paulson – conductor\nMalmö Academy of Music Chamber Choir\nMattias Hjorth – bass \nJazz pianist Jan Lundgren\, bassist Mattias Hjorth and the Malmö Academy of Music Chamber Choir converge for a fusion concert drawn from classical\, folk and jazz – moving in time from Renaissance music to the music of today. \nJan Lundgren is a senior lecturer at the Malmö Academy of Music\, and has been teaching piano there since graduating from the Academy in 1991. He was mentored by Swedish jazz greats such as saxophonist Arne Domnerus and in turn has acted as mentor for many young talents\, helping to renew Swedish jazz. \nThe Malmö Academy of Music Chamber Choir is led by conductor Mats Paulson\, a senior lecturer in choral conducting at the Academy. The 25 members of the choir are all Academy students.
URL:https://ystadjazz.se/event/jan-lundgren-with-the-malmo-academy-of-music-chamber-choir/?lang=en
LOCATION:Ystads Teater\, Sjömansgatan 13\, Ystad\, Skåne\, 27143\, Sverige
CATEGORIES:Concert
ATTACH;FMTTYPE=image/jpeg:https://ystadjazz.se/wp-content/uploads/2026/03/29-jul-16.00-Malmo-musikhogskola-kor.jpeg
GEO:55.4277177;13.8182511
X-APPLE-STRUCTURED-LOCATION;VALUE=URI;X-ADDRESS=Ystads Teater Sjömansgatan 13 Ystad Skåne 27143 Sverige;X-APPLE-RADIUS=500;X-TITLE=Sjömansgatan 13:geo:13.8182511,55.4277177
END:VEVENT
BEGIN:VEVENT
DTSTART;TZID=Europe/Stockholm:20260729T200000
DTEND;TZID=Europe/Stockholm:20260729T200000
DTSTAMP:20260421T210010
CREATED:20260330T220123Z
LAST-MODIFIED:20260331T083350Z
UID:10000393-1785355200-1785355200@ystadjazz.se
SUMMARY:Kurt Rosenwinkel “Remedy Tour”
DESCRIPTION:Biljett/Ticket\nKurt Rosenwinkel (US) – guitar\nSeamus Blake (CA) – saxophone\nAlex Claffy (US) – bass\nJoe Farnsworth (US) – drums \nAmerican guitarist Kurt Rosenwinkel is celebrating the 20th anniversary of his double album “The Remedy”– recorded live at the Village Vanguard in New York in 2006 – by revisiting the music from what was widely hailed as a landmark live recording in modern jazz.   \nSince he first appeared on the New York music scene in 1991\, Kurt Rosenwinkel has become one of the most influential jazz guitar players of his generation. His musical range is evident from 15 albums as a leader\, from “East Coast Love Affair” (1996) to “The Brahms Project (2025). \nThe New York Times described Kurt Rosenwinkel as “a relentless explorer” who “has staked out a singular position in jazz’s firmament as a player\, composer\, and bandleader with a vast and supremely sophisticated harmonic vision and melodic sensibility.”
URL:https://ystadjazz.se/event/kurt-rosenwinkel-the-remedy/?lang=en
LOCATION:Ystads Teater\, Sjömansgatan 13\, Ystad\, Skåne\, 27143\, Sverige
CATEGORIES:Concert
ATTACH;FMTTYPE=image/jpeg:https://ystadjazz.se/wp-content/uploads/2026/03/Kurt_Rosenwinkel_w.jpg
GEO:55.4277177;13.8182511
X-APPLE-STRUCTURED-LOCATION;VALUE=URI;X-ADDRESS=Ystads Teater Sjömansgatan 13 Ystad Skåne 27143 Sverige;X-APPLE-RADIUS=500;X-TITLE=Sjömansgatan 13:geo:13.8182511,55.4277177
END:VEVENT
BEGIN:VEVENT
DTSTART;TZID=Europe/Stockholm:20260730T160000
DTEND;TZID=Europe/Stockholm:20260730T160000
DTSTAMP:20260421T210010
CREATED:20260330T220116Z
LAST-MODIFIED:20260325T094256Z
UID:10000395-1785427200-1785427200@ystadjazz.se
SUMMARY:Bobo Stenson Trio
DESCRIPTION:Biljett/Ticket\nBobo Stenson – piano\nAnders Jormin – bass\nJon Fält – drums \nSwedish pianist Bobo Stenson has been a prominent figure in the world of jazz for over five decades. JazzTimes described him as “the greatest living jazz pianist born outside the United States.” \nBobo Stenson became established on the Stockholm jazz scene in the 1960s. He collaborated with Jan Garbarek in the 1970s and during the 1990s recorded albums with artists such as Charles Lloyd and Tomasz Stańko. \nThe current Bobo Stenson Trio\, with members Anders Jormin on bass and Jon Fält on drums\, has been together since 2008. The trio has recorded several albums including their most recent release\, “Sphere” (2023)\, which Jazzwise summed up as “a powerful introspective album that draws us into a world of intense mutual concentration\, with many moments of astonishing lyrical beauty.”
URL:https://ystadjazz.se/event/bobo-stenson-trio/?lang=en
LOCATION:Ystads Teater\, Sjömansgatan 13\, Ystad\, Skåne\, 27143\, Sverige
CATEGORIES:Concert
ATTACH;FMTTYPE=image/jpeg:https://ystadjazz.se/wp-content/uploads/2026/03/Bobo-Stenson-Trio_w.jpg
GEO:55.4277177;13.8182511
X-APPLE-STRUCTURED-LOCATION;VALUE=URI;X-ADDRESS=Ystads Teater Sjömansgatan 13 Ystad Skåne 27143 Sverige;X-APPLE-RADIUS=500;X-TITLE=Sjömansgatan 13:geo:13.8182511,55.4277177
END:VEVENT
BEGIN:VEVENT
DTSTART;TZID=Europe/Stockholm:20260730T210000
DTEND;TZID=Europe/Stockholm:20260730T210000
DTSTAMP:20260421T210011
CREATED:20260330T220138Z
LAST-MODIFIED:20260325T095236Z
UID:10000410-1785445200-1785445200@ystadjazz.se
SUMMARY:Mathias Heise & DR Big Band “A Love Supreme Revisited”
DESCRIPTION:Biljett/Ticket\nMathias Heise (DK) – harmonica\nDR Big Band \nOne of the world’s leading harmonica players meets one of the world’s best big bands when Mathias Heise and the DR Big Band join forces for this evening concert at Ystads Teater.  \nTheir latest collaboration “A Love Supreme Revisited” (2026) reinterprets music from John Coltrane’s jazz masterpiece “A Love Supreme” (1965). This year sees the 100th anniversary of John Coltrane’s birth. \nDanish harmonica virtuoso\, composer and arranger Mathias Heise has a long list of awards\, including first place in the 2013 Chromatic Harmonica World Championship\, when he was 20.  \nThe DR Big Band (Danish Radio Big Band) was founded in Copenhagen in 1964 The band has had many major international guest soloists over the years including Stan Getz\, Miles Davis\, Mike Stern and Richard Bona.
URL:https://ystadjazz.se/event/mathias-heise-dr-big-band-a-love-supreme-revisited/?lang=en
LOCATION:Ystads Teater\, Sjömansgatan 13\, Ystad\, Skåne\, 27143\, Sverige
CATEGORIES:Concert
ATTACH;FMTTYPE=image/jpeg:https://ystadjazz.se/wp-content/uploads/2026/03/Mattas-Heisse-Photo-Nicolas.jpg
GEO:55.4277177;13.8182511
X-APPLE-STRUCTURED-LOCATION;VALUE=URI;X-ADDRESS=Ystads Teater Sjömansgatan 13 Ystad Skåne 27143 Sverige;X-APPLE-RADIUS=500;X-TITLE=Sjömansgatan 13:geo:13.8182511,55.4277177
END:VEVENT
BEGIN:VEVENT
DTSTART;TZID=Europe/Stockholm:20260731T160000
DTEND;TZID=Europe/Stockholm:20260731T160000
DTSTAMP:20260421T210011
CREATED:20260330T220114Z
LAST-MODIFIED:20260325T094431Z
UID:10000442-1785513600-1785513600@ystadjazz.se
SUMMARY:Francesca Tandoi Trio
DESCRIPTION:Biljett/Ticket\nFrancesca Tandoi (IT) – piano\, vocals\nStefano Senni (IT) – bass \nPasquale Fiore (IT) – drums \nItalian pianist and vocalist Francesca Tandoi is a new star in European jazz. \nJazz pianist Monty Alexander observed: “Francesca Tandoi is a supremely tasteful swinging piano player. Her vocals are exquisite\, her compositions are melodic and memorable\, and her arrangements are extremely thoughtful.” \nIn just a few years since embarking on her international career\, she has toured extensively in Europe\, Asia\, Africa and the United States\, and made over 25 recordings as a sideman\, including four with American saxophonist Scott Hamilton. Since 2014\, she has recorded seven albums as leader of her piano trio\, establishing a reputation for her life-affirming swing and explosive virtuoso solos. Recent albums include “When in Rome” (2022)\, “Bop Web” (2024) and a live version “Bop Web – Nuccia Live” (2025).
URL:https://ystadjazz.se/event/francesca-tandoi-trio/?lang=en
LOCATION:Ystads Teater\, Sjömansgatan 13\, Ystad\, Skåne\, 27143\, Sverige
CATEGORIES:Concert
ATTACH;FMTTYPE=image/jpeg:https://ystadjazz.se/wp-content/uploads/2026/03/Francesca-Tandoi-foto_Paolo.jpg
GEO:55.4277177;13.8182511
X-APPLE-STRUCTURED-LOCATION;VALUE=URI;X-ADDRESS=Ystads Teater Sjömansgatan 13 Ystad Skåne 27143 Sverige;X-APPLE-RADIUS=500;X-TITLE=Sjömansgatan 13:geo:13.8182511,55.4277177
END:VEVENT
BEGIN:VEVENT
DTSTART;TZID=Europe/Stockholm:20260731T210000
DTEND;TZID=Europe/Stockholm:20260731T210000
DTSTAMP:20260421T210011
CREATED:20260330T220155Z
LAST-MODIFIED:20260325T094547Z
UID:10000446-1785531600-1785531600@ystadjazz.se
SUMMARY:Jan Lundgren\, Rosario Giuliani\, Roberto Gatto\, Hans Backenroth ”Sweden loves Italy”
DESCRIPTION:Biljett/Ticket\nJan Lundgren – piano\nRosario Giuliani (IT) – alto sax\nRoberto Gatto (IT) – drums\nHans Backenroth – bass \nThis stellar Swedish-Italian quartet\, playing together for the first time\, will be performing music by composers such as Italian film score writers Ennio Morricone and Nino Rota\, as well as original songs by the band members. \nPianist Jan Lundgren and bassist Hans Backenroth emerged on the Swedish jazz scene in the mid-1990s. They have worked together extensively in many different ensembles over the years and released a duo album “Jazz Poetry” in 2022. \nHighly-regarded saxophonist Rosario Giuliani has released a number of albums including “Cinema Italia” (2016)\, a celebration of Italian film music. \nJazz drummer Roberto Gatto has performed with a multitude of major names as a sideman such as Chet Baker\, Joe Zawinul\, Joe Lovano and Paolo Fresu.
URL:https://ystadjazz.se/event/jan-lundgren-rosario-giuliani-roberto-gatto-hans-backenroth-sweden-loves-italy/?lang=en
LOCATION:Ystads Teater\, Sjömansgatan 13\, Ystad\, Skåne\, 27143\, Sverige
CATEGORIES:Concert
ATTACH;FMTTYPE=image/jpeg:https://ystadjazz.se/wp-content/uploads/2026/03/Jan-31-juli-21.00.jpg
GEO:55.4277177;13.8182511
X-APPLE-STRUCTURED-LOCATION;VALUE=URI;X-ADDRESS=Ystads Teater Sjömansgatan 13 Ystad Skåne 27143 Sverige;X-APPLE-RADIUS=500;X-TITLE=Sjömansgatan 13:geo:13.8182511,55.4277177
END:VEVENT
END:VCALENDAR